BEGIN:VCALENDAR
VERSION:2.0
PRODID:icalendar-ruby
CALSCALE:GREGORIAN
METHOD:PUBLISH
BEGIN:VEVENT
DTSTAMP:20260423T092531Z
UID:ai-terrace-mixer-ahmedabad-edition-apr-24-2026
DTSTART:20260424T133000Z
DTEND:20260424T153000Z
DESCRIPTION:For full details of address and join an event visit https://ech
 ai.ventures/events/ai-terrace-mixer-ahmedabad-edition-apr-24-2026
LOCATION:House of Starts\, 1st Floor\, D Block\, Satyam Corporate Square\, 
 Sindhubhavan Rd\, behind Rajpath Rangoli Road\, opp. Iconic 1010 Hospital\
 , Bodakdev\, Ahmedabad\, Gujarat 380054. 
ORGANIZER;CN=eChai Ventures:mailto:no-reply@echai.network
SUMMARY:AI Terrace Mixer : Ahmedabad Edition
URL:https://echai.ventures/events/ai-terrace-mixer-ahmedabad-edition-apr-24
 -2026
BEGIN:VALARM
ACTION:DISPLAY
TRIGGER:-P1D
SUMMARY:AI Terrace Mixer : Ahmedabad Edition
END:VALARM
BEGIN:VALARM
ACTION:AUDIO
TRIGGER:-PT15M
ATTACH:Basso
END:VALARM
END:VEVENT
END:VCALENDAR
