BEGIN:VCALENDAR
VERSION:2.0
PRODID:icalendar-ruby
CALSCALE:GREGORIAN
METHOD:PUBLISH
BEGIN:VEVENT
DTSTAMP:20260420T130123Z
UID:echai-startup-social-in-bengaluru-april-edition-apr-23-2026
DTSTART:20260423T130000Z
DTEND:20260423T150000Z
DESCRIPTION:For full details of address and join an event visit https://ech
 ai.ventures/events/echai-startup-social-in-bengaluru-april-edition-apr-23-
 2026
LOCATION:IKP EDEN\, Bhuvanappa Layout\, 16\, Tavarekere Main Rd\, Tavareker
 e\, Kaveri Layout\, S.G. Palya\, Bengaluru\, Karnataka 560029. 
ORGANIZER;CN=eChai Ventures:mailto:no-reply@echai.network
SUMMARY:eChai Startup Social in Bengaluru: April Edition
URL:https://echai.ventures/events/echai-startup-social-in-bengaluru-april-e
 dition-apr-23-2026
BEGIN:VALARM
ACTION:DISPLAY
TRIGGER:-P1D
SUMMARY:eChai Startup Social in Bengaluru: April Edition
END:VALARM
BEGIN:VALARM
ACTION:AUDIO
TRIGGER:-PT15M
ATTACH:Basso
END:VALARM
END:VEVENT
END:VCALENDAR
