BEGIN:VCALENDAR
VERSION:2.0
PRODID:icalendar-ruby
CALSCALE:GREGORIAN
METHOD:PUBLISH
BEGIN:VEVENT
DTSTAMP:20260420T214419Z
UID:echai-women-founders-initiative-in-ahmedabad-march-edition-mar-07-2026-
 aa45b32e-244b-418c-8c83-76f688949dc7
DTSTART:20260502T053000Z
DTEND:20260502T073000Z
DESCRIPTION:For full details of address and join an event visit https://ech
 ai.ventures/events/echai-women-founders-initiative-in-ahmedabad-march-edit
 ion-mar-07-2026-aa45b32e-244b-418c-8c83-76f688949dc7
LOCATION:DevX Sindhu Bhavan Road\, 4th Floor\, Binori B Square\, 3\, Sindhu
  Bhavan Marg\, Bodakdev\, Ahmedabad\, Gujarat 380054. 
ORGANIZER;CN=eChai Ventures:mailto:no-reply@echai.network
SUMMARY:eChai Women Founders Initiative in Ahmedabad: March Edition
URL:https://echai.ventures/events/echai-women-founders-initiative-in-ahmeda
 bad-march-edition-mar-07-2026-aa45b32e-244b-418c-8c83-76f688949dc7
BEGIN:VALARM
ACTION:DISPLAY
TRIGGER:-P1D
SUMMARY:eChai Women Founders Initiative in Ahmedabad: March Edition
END:VALARM
BEGIN:VALARM
ACTION:AUDIO
TRIGGER:-PT15M
ATTACH:Basso
END:VALARM
END:VEVENT
END:VCALENDAR
