BEGIN:VCALENDAR
VERSION:2.0
PRODID:icalendar-ruby
CALSCALE:GREGORIAN
METHOD:PUBLISH
BEGIN:VEVENT
DTSTAMP:20260420T214419Z
UID:echai-women-founders-initiative-in-bengaluru-may-edition-may-02-2026
DTSTART:20260502T123000Z
DTEND:20260502T143000Z
DESCRIPTION:For full details of address and join an event visit https://ech
 ai.ventures/events/echai-women-founders-initiative-in-bengaluru-may-editio
 n-may-02-2026
LOCATION:UrbanVault 477 HSR Layout\, 24th Main Rd\, Parangi Palaya\, 1st Se
 ctor\, HSR Layout\, Bengaluru\, Karnataka 560102 
ORGANIZER;CN=eChai Ventures:mailto:no-reply@echai.network
SUMMARY:eChai Women Founders Initiative in Bengaluru: May Edition
URL:https://echai.ventures/events/echai-women-founders-initiative-in-bengal
 uru-may-edition-may-02-2026
BEGIN:VALARM
ACTION:DISPLAY
TRIGGER:-P1D
SUMMARY:eChai Women Founders Initiative in Bengaluru: May Edition
END:VALARM
BEGIN:VALARM
ACTION:AUDIO
TRIGGER:-PT15M
ATTACH:Basso
END:VALARM
END:VEVENT
END:VCALENDAR
