BEGIN:VCALENDAR
VERSION:2.0
PRODID:icalendar-ruby
CALSCALE:GREGORIAN
METHOD:PUBLISH
BEGIN:VEVENT
DTSTAMP:20260420T214419Z
UID:echai-women-founders-initiative-in-hyderabad-with-cokarma-may-02-2026
DTSTART:20260502T053000Z
DTEND:20260502T073000Z
DESCRIPTION:For full details of address and join an event visit https://ech
 ai.ventures/events/echai-women-founders-initiative-in-hyderabad-with-cokar
 ma-may-02-2026
LOCATION:CoKarma Financial District\, 3rd Floor\, Myscape Weave\, Myscape R
 d\, Financial District\, Nanakramguda\, Hyderabad\, Telangana 500032. 
ORGANIZER;CN=eChai Ventures:mailto:no-reply@echai.network
SUMMARY:eChai Women Founders Initiative in Hyderabad with CoKarma
URL:https://echai.ventures/events/echai-women-founders-initiative-in-hydera
 bad-with-cokarma-may-02-2026
BEGIN:VALARM
ACTION:DISPLAY
TRIGGER:-P1D
SUMMARY:eChai Women Founders Initiative in Hyderabad with CoKarma
END:VALARM
BEGIN:VALARM
ACTION:AUDIO
TRIGGER:-PT15M
ATTACH:Basso
END:VALARM
END:VEVENT
END:VCALENDAR
