BEGIN:VCALENDAR
VERSION:2.0
PRODID:icalendar-ruby
CALSCALE:GREGORIAN
METHOD:PUBLISH
BEGIN:VEVENT
DTSTAMP:20260420T220658Z
UID:echai-women-founders-initiative-in-rajkot-may-edition-may-02-2026
DTSTART:20260502T123000Z
DTEND:20260502T143000Z
DESCRIPTION:For full details of address and join an event visit https://ech
 ai.ventures/events/echai-women-founders-initiative-in-rajkot-may-edition-m
 ay-02-2026
LOCATION:DevX Rajkot\, 3rd Floor\, A wing\, Om 9 Square\, 150 Feet Ring Rd\
 , Circle\, Nana Mava\, Rajkot\, Gujarat 360003. 
ORGANIZER;CN=eChai Ventures:mailto:no-reply@echai.network
SUMMARY:eChai Women Founders Initiative in Rajkot: May Edition
URL:https://echai.ventures/events/echai-women-founders-initiative-in-rajkot
 -may-edition-may-02-2026
BEGIN:VALARM
ACTION:DISPLAY
TRIGGER:-P1D
SUMMARY:eChai Women Founders Initiative in Rajkot: May Edition
END:VALARM
BEGIN:VALARM
ACTION:AUDIO
TRIGGER:-PT15M
ATTACH:Basso
END:VALARM
END:VEVENT
END:VCALENDAR
