BEGIN:VCALENDAR
VERSION:2.0
PRODID:icalendar-ruby
CALSCALE:GREGORIAN
METHOD:PUBLISH
BEGIN:VEVENT
DTSTAMP:20260420T220658Z
UID:food-beverage-startups-meetup-building-what-india-eats-drinks-ahmedabad
 -edition-may-07-2026
DTSTART:20260507T130000Z
DTEND:20260507T150000Z
DESCRIPTION:For full details of address and join an event visit https://ech
 ai.ventures/events/food-beverage-startups-meetup-building-what-india-eats-
 drinks-ahmedabad-edition-may-07-2026
LOCATION:GVFL Ahmedabad\, 1221/1222\, 12th Floor\, East Wing\, Stratum @Ven
 us Grounds\, Nehrunagar\, Ahmedabad – 380015\, Gujarat. 
ORGANIZER;CN=eChai Ventures:mailto:no-reply@echai.network
SUMMARY:Food & Beverage Startups Meetup: Building What India Eats & Drinks 
 - Ahmedabad Edition
URL:https://echai.ventures/events/food-beverage-startups-meetup-building-wh
 at-india-eats-drinks-ahmedabad-edition-may-07-2026
BEGIN:VALARM
ACTION:DISPLAY
TRIGGER:-P1D
SUMMARY:Food & Beverage Startups Meetup: Building What India Eats & Drinks 
 - Ahmedabad Edition
END:VALARM
BEGIN:VALARM
ACTION:AUDIO
TRIGGER:-PT15M
ATTACH:Basso
END:VALARM
END:VEVENT
END:VCALENDAR
