BEGIN:VCALENDAR
VERSION:2.0
PRODID:icalendar-ruby
CALSCALE:GREGORIAN
METHOD:PUBLISH
BEGIN:VEVENT
DTSTAMP:20260420T141730Z
UID:student-entrepreneurs-meetup-ahmedabad-edition-apr-25-2026
DTSTART:20260425T123000Z
DTEND:20260425T143000Z
DESCRIPTION:For full details of address and join an event visit https://ech
 ai.ventures/events/student-entrepreneurs-meetup-ahmedabad-edition-apr-25-2
 026
LOCATION:iHub Gujarat\, Prajna Puram\, KCG Campus\, opp. PRL\, Navrangpura\
 , Ahmedabad\, Gujarat 380015. 
ORGANIZER;CN=eChai Ventures:mailto:no-reply@echai.network
SUMMARY:Student Entrepreneurs Meetup : Ahmedabad Edition
URL:https://echai.ventures/events/student-entrepreneurs-meetup-ahmedabad-ed
 ition-apr-25-2026
BEGIN:VALARM
ACTION:DISPLAY
TRIGGER:-P1D
SUMMARY:Student Entrepreneurs Meetup : Ahmedabad Edition
END:VALARM
BEGIN:VALARM
ACTION:AUDIO
TRIGGER:-PT15M
ATTACH:Basso
END:VALARM
END:VEVENT
END:VCALENDAR
